BEGIN:VCALENDAR
VERSION:2.0
PRODID:-//Tukios.com/
BEGIN:VEVENT
UID:2d4043bc-7da1-44a4-9886-a6dc70957906@www.ardoinfuneralhomesmamou.com
DTSTAMP:20260421T172317Z
DTSTART:20260423T230000Z
DTEND:20260423T233000Z
SUMMARY:Prayer Service
DESCRIPTION:
URL:https://www.ardoinfuneralhomesmamou.com/obituaries/beau-bellard
LOCATION: 717 6th St  Mamou LA 70554
GEO:30.6344665;-92.4199063
END:VEVENT
END:VCALENDAR