BEGIN:VCALENDAR
VERSION:2.0
PRODID:-//Tukios.com/
BEGIN:VEVENT
UID:52d87d37-e592-4757-a3a7-6dbc353e4c3e@www.ardoinfuneralhomesmamou.com
DTSTAMP:20260421T172004Z
DTSTART:20260424T160000Z
DTEND:20260424T170000Z
SUMMARY:Mass of Christian Burial
DESCRIPTION:
URL:https://www.ardoinfuneralhomesmamou.com/obituaries/beau-bellard
LOCATION: 716 Sixth St  Mamou LA 70554
GEO:30.6343981;-92.4187483
END:VEVENT
END:VCALENDAR