BEGIN:VCALENDAR
VERSION:2.0
PRODID:-//Tukios.com/
BEGIN:VEVENT
UID:6cea8de0-f70d-41b1-93cc-57a3b9e89023@www.ardoinfuneralhomesmamou.com
DTSTAMP:20260421T171932Z
DTSTART:20260424T130000Z
DTEND:20260424T160000Z
SUMMARY:Visitation
DESCRIPTION:
URL:https://www.ardoinfuneralhomesmamou.com/obituaries/beau-bellard
LOCATION: 717 6th St  Mamou LA 70554
GEO:30.6344665;-92.4199063
END:VEVENT
END:VCALENDAR