BEGIN:VCALENDAR
VERSION:2.0
PRODID:-//Tukios.com/
BEGIN:VEVENT
UID:5e9a8dc0-0b87-430c-aa86-121e88c1b1b4@www.ardoinfuneralhomesmamou.com
DTSTAMP:20260421T171813Z
DTSTART:20260423T160000Z
DTEND:20260424T020000Z
SUMMARY:Visitation
DESCRIPTION:
URL:https://www.ardoinfuneralhomesmamou.com/obituaries/beau-bellard
LOCATION: 717 6th St  Mamou LA 70554
GEO:30.6344665;-92.4199063
END:VEVENT
END:VCALENDAR