BEGIN:VCALENDAR
VERSION:2.0
PRODID:-//Tukios.com/
BEGIN:VEVENT
UID:4a302354-b7ee-4330-84d6-c9a21a727be1@www.ardoinfuneralhomesmamou.com
DTSTAMP:20260421T172155Z
DTSTART:20260424T170000Z
DTEND:20260424T173000Z
SUMMARY:Burial
DESCRIPTION:
URL:https://www.ardoinfuneralhomesmamou.com/obituaries/beau-bellard
LOCATION:    LA 
GEO:30.641148;-92.4275918
END:VEVENT
END:VCALENDAR